BEGIN:VCALENDAR
VERSION:2.0
METHOD:PUBLISH
BEGIN:VEVENT
DTSTAMP:20260423T090340Z
DTSTART:20260603T160500Z
DTEND:20260603T160500Z
SUMMARY:Governance and Priorities Committee 
END:VEVENT
END:VCALENDAR
