BEGIN:VCALENDAR
VERSION:2.0
METHOD:PUBLISH
BEGIN:VEVENT
DTSTAMP:20260423T085951Z
DTSTART:20260506T160500Z
DTEND:20260506T160500Z
SUMMARY:Cancelled Governance and Priorities Committee 
END:VEVENT
END:VCALENDAR
