BEGIN:VCALENDAR
VERSION:2.0
METHOD:PUBLISH
BEGIN:VEVENT
DTSTAMP:20260424T100657Z
DTSTART:20250303T170500Z
DTEND:20250303T170500Z
SUMMARY:Governance and Priorities Committee 
END:VEVENT
END:VCALENDAR
