BEGIN:VCALENDAR
VERSION:2.0
METHOD:PUBLISH
BEGIN:VEVENT
DTSTAMP:20260424T205023Z
DTSTART:20241021T160500Z
DTEND:20241021T160500Z
SUMMARY:Governance and Priorities Committee&nbsp;
END:VEVENT
END:VCALENDAR
