BEGIN:VCALENDAR
VERSION:2.0
METHOD:PUBLISH
BEGIN:VEVENT
DTSTAMP:20260420T195341Z
DTSTART:20260422T161500Z
DTEND:20260422T161500Z
SUMMARY:Special Governance and Priorities Committee 
END:VEVENT
END:VCALENDAR
