BEGIN:VCALENDAR
VERSION:2.0
METHOD:PUBLISH
BEGIN:VEVENT
DTSTAMP:20260420T193131Z
DTSTART:20260420T160500Z
DTEND:20260420T160500Z
SUMMARY:Special Governance and Priorities Committee 
END:VEVENT
END:VCALENDAR
